BEGIN:VCALENDAR
VERSION:2.0
PRODID:-//Oda Kërçovare në Zvicër - ECPv6.15.20//NONSGML v1.0//EN
CALSCALE:GREGORIAN
METHOD:PUBLISH
X-WR-CALNAME:Oda Kërçovare në Zvicër
X-ORIGINAL-URL:https://odakercovare.com
X-WR-CALDESC:Events for Oda Kërçovare në Zvicër
REFRESH-INTERVAL;VALUE=DURATION:PT1H
X-Robots-Tag:noindex
X-PUBLISHED-TTL:PT1H
BEGIN:VTIMEZONE
TZID:UTC
BEGIN:STANDARD
TZOFFSETFROM:+0000
TZOFFSETTO:+0000
TZNAME:UTC
DTSTART:20240101T000000
END:STANDARD
END:VTIMEZONE
BEGIN:VEVENT
DTSTART;TZID=UTC:20250531T200000
DTEND;TZID=UTC:20250531T230000
DTSTAMP:20260423T193025
CREATED:20250312T090354Z
LAST-MODIFIED:20250312T092933Z
UID:584-1748721600-1748732400@odakercovare.com
SUMMARY:Takim Shoqata Zajazi
DESCRIPTION:Takim Shoqata Zajazi
URL:https://odakercovare.com/event/takim-shoqata-zajazi/
CATEGORIES:Kalendari
END:VEVENT
BEGIN:VEVENT
DTSTART;TZID=UTC:20250412T203000
DTEND;TZID=UTC:20250412T233000
DTSTAMP:20260423T193025
CREATED:20250408T060608Z
LAST-MODIFIED:20250410T141522Z
UID:640-1744489800-1744500600@odakercovare.com
SUMMARY:Shoqata Kulturore Kërçova
DESCRIPTION:Shoqata Kulturore Kërçova
URL:https://odakercovare.com/event/privat-party/
END:VEVENT
BEGIN:VEVENT
DTSTART;TZID=UTC:20250405T200000
DTEND;TZID=UTC:20250405T233000
DTSTAMP:20260423T193025
CREATED:20250408T060701Z
LAST-MODIFIED:20250408T060701Z
UID:642-1743883200-1743895800@odakercovare.com
SUMMARY:VIP Party me Lazim Destanin
DESCRIPTION:VIP Party me Lazim Destanin
URL:https://odakercovare.com/event/vip-party-me-lazim-destanin/
END:VEVENT
BEGIN:VEVENT
DTSTART;TZID=UTC:20250313T200000
DTEND;TZID=UTC:20250313T230000
DTSTAMP:20260423T193025
CREATED:20250312T085353Z
LAST-MODIFIED:20250312T090119Z
UID:577-1741896000-1741906800@odakercovare.com
SUMMARY:Mysafir tek oda Prof. Dr Sadik Emroja
DESCRIPTION:Mysafir tek oda Prof. Dr Sadik Emroja
URL:https://odakercovare.com/event/mysafir-tek-oda-prof-dr-sadik-emroja/
CATEGORIES:Kalendari
END:VEVENT
END:VCALENDAR